BEGIN:VCALENDAR
VERSION:2.0
PRODID:-// - ECPv6.15.16//NONSGML v1.0//EN
CALSCALE:GREGORIAN
METHOD:PUBLISH
X-ORIGINAL-URL:https://bttalbal.com
X-WR-CALDESC:Eventos para 
REFRESH-INTERVAL;VALUE=DURATION:PT1H
X-Robots-Tag:noindex
X-PUBLISHED-TTL:PT1H
BEGIN:VTIMEZONE
TZID:UTC
BEGIN:STANDARD
TZOFFSETFROM:+0000
TZOFFSETTO:+0000
TZNAME:UTC
DTSTART:20250101T000000
END:STANDARD
END:VTIMEZONE
BEGIN:VEVENT
DTSTART;TZID=UTC:20260222T110000
DTEND;TZID=UTC:20260222T233000
DTSTAMP:20260419T173208
CREATED:20260217T192654Z
LAST-MODIFIED:20260217T195749Z
UID:749-1771758000-1771803000@bttalbal.com
SUMMARY:Esmorçar Inici Temporada
DESCRIPTION:
URL:https://bttalbal.com/event/esmocar-inici-temporada/
LOCATION:La Cooperativa\, Albal
CATEGORIES:Eixida especial
END:VEVENT
END:VCALENDAR